BEGIN:VCALENDAR
VERSION:2.0
PRODID:-//Mialet-Barrault Éditeurs - ECPv6.15.18//NONSGML v1.0//EN
CALSCALE:GREGORIAN
METHOD:PUBLISH
X-WR-CALNAME:Mialet-Barrault Éditeurs
X-ORIGINAL-URL:https://www.mialetbarrault.fr
X-WR-CALDESC:Évènements pour Mialet-Barrault Éditeurs
REFRESH-INTERVAL;VALUE=DURATION:PT1H
X-Robots-Tag:noindex
X-PUBLISHED-TTL:PT1H
BEGIN:VTIMEZONE
TZID:Europe/Paris
BEGIN:DAYLIGHT
TZOFFSETFROM:+0100
TZOFFSETTO:+0200
TZNAME:CEST
DTSTART:20230326T010000
END:DAYLIGHT
BEGIN:STANDARD
TZOFFSETFROM:+0200
TZOFFSETTO:+0100
TZNAME:CET
DTSTART:20231029T010000
END:STANDARD
BEGIN:DAYLIGHT
TZOFFSETFROM:+0100
TZOFFSETTO:+0200
TZNAME:CEST
DTSTART:20240331T010000
END:DAYLIGHT
BEGIN:STANDARD
TZOFFSETFROM:+0200
TZOFFSETTO:+0100
TZNAME:CET
DTSTART:20241027T010000
END:STANDARD
BEGIN:DAYLIGHT
TZOFFSETFROM:+0100
TZOFFSETTO:+0200
TZNAME:CEST
DTSTART:20250330T010000
END:DAYLIGHT
BEGIN:STANDARD
TZOFFSETFROM:+0200
TZOFFSETTO:+0100
TZNAME:CET
DTSTART:20251026T010000
END:STANDARD
END:VTIMEZONE
BEGIN:VEVENT
DTSTART;VALUE=DATE:20240202
DTEND;VALUE=DATE:20240205
DTSTAMP:20260422T035421
CREATED:20231228T130046Z
LAST-MODIFIED:20240115T163332Z
UID:4563-1706832000-1707091199@www.mialetbarrault.fr
SUMMARY:Gilles Pialoux\, Salon du livre de Saint-Raphaël
DESCRIPTION:Gilles Pialoux\n2-4 février 2024\nSalon du livre de Saint-Raphaël\n« Un don presque parfait »\nSaint-Raphaël
URL:https://www.mialetbarrault.fr/events/gilles-pialoux-salon-du-livre-de-saint-raphael/
LOCATION:Saint-Raphaël
CATEGORIES:Gilles Pialoux
ATTACH;FMTTYPE=image/png:https://www.mialetbarrault.fr/wp-content/uploads/2023/12/visuel-calendar-saint-raph-pialoux.png
END:VEVENT
END:VCALENDAR