BEGIN:VCALENDAR
VERSION:2.0
PRODID:-//Mialet-Barrault Éditeurs - ECPv6.15.18//NONSGML v1.0//EN
CALSCALE:GREGORIAN
METHOD:PUBLISH
X-ORIGINAL-URL:https://www.mialetbarrault.fr
X-WR-CALDESC:Évènements pour Mialet-Barrault Éditeurs
REFRESH-INTERVAL;VALUE=DURATION:PT1H
X-Robots-Tag:noindex
X-PUBLISHED-TTL:PT1H
BEGIN:VTIMEZONE
TZID:Europe/Paris
BEGIN:DAYLIGHT
TZOFFSETFROM:+0100
TZOFFSETTO:+0200
TZNAME:CEST
DTSTART:20230326T010000
END:DAYLIGHT
BEGIN:STANDARD
TZOFFSETFROM:+0200
TZOFFSETTO:+0100
TZNAME:CET
DTSTART:20231029T010000
END:STANDARD
BEGIN:DAYLIGHT
TZOFFSETFROM:+0100
TZOFFSETTO:+0200
TZNAME:CEST
DTSTART:20240331T010000
END:DAYLIGHT
BEGIN:STANDARD
TZOFFSETFROM:+0200
TZOFFSETTO:+0100
TZNAME:CET
DTSTART:20241027T010000
END:STANDARD
BEGIN:DAYLIGHT
TZOFFSETFROM:+0100
TZOFFSETTO:+0200
TZNAME:CEST
DTSTART:20250330T010000
END:DAYLIGHT
BEGIN:STANDARD
TZOFFSETFROM:+0200
TZOFFSETTO:+0100
TZNAME:CET
DTSTART:20251026T010000
END:STANDARD
END:VTIMEZONE
BEGIN:VEVENT
DTSTART;TZID=Europe/Paris:20240302T120000
DTEND;TZID=Europe/Paris:20240302T210000
DTSTAMP:20260422T022406
CREATED:20240229T090333Z
LAST-MODIFIED:20240302T143218Z
UID:4795-1709380800-1709413200@www.mialetbarrault.fr
SUMMARY:Gilles Pialoux\,La librairie La Flibuste
DESCRIPTION:Gilles Pialoux\n2 mars 2024 – Après-midi\nLa librairie La Flibuste\n« Un don presque parfait »\nFontenay-sous-Bois
URL:https://www.mialetbarrault.fr/events/gilles-pialouxla-librairie-la-flibuste/
LOCATION:Fontenay-sous-Bois\, France
CATEGORIES:Gilles Pialoux
ATTACH;FMTTYPE=image/png:https://www.mialetbarrault.fr/wp-content/uploads/2024/02/visuel-calendar02-03-pia.png
END:VEVENT
BEGIN:VEVENT
DTSTART;TZID=Europe/Paris:20240323T160000
DTEND;TZID=Europe/Paris:20240324T180000
DTSTAMP:20260422T022406
CREATED:20240302T151021Z
LAST-MODIFIED:20240315T150626Z
UID:4838-1711209600-1711303200@www.mialetbarrault.fr
SUMMARY:Gilles Pialoux\, Librairie « Mot à mot »
DESCRIPTION:Gilles Pialoux\, Librairie « Mot à mot »\nSamedi 23 mars de 16h à 18h\n« Un don presque parfait » \nFontenay-sous-Bois
URL:https://www.mialetbarrault.fr/events/gilles-pialoux-librairie-mot-a-mot-2/
LOCATION:Fontenay-sous-Bois\, France
CATEGORIES:Gilles Pialoux
ATTACH;FMTTYPE=image/png:https://www.mialetbarrault.fr/wp-content/uploads/2024/03/visuel-calendar26-03-pia.png
END:VEVENT
END:VCALENDAR