BEGIN:VCALENDAR
VERSION:2.0
PRODID:-//Mialet-Barrault Éditeurs - ECPv6.15.18//NONSGML v1.0//EN
CALSCALE:GREGORIAN
METHOD:PUBLISH
X-ORIGINAL-URL:https://www.mialetbarrault.fr
X-WR-CALDESC:Évènements pour Mialet-Barrault Éditeurs
REFRESH-INTERVAL;VALUE=DURATION:PT1H
X-Robots-Tag:noindex
X-PUBLISHED-TTL:PT1H
BEGIN:VTIMEZONE
TZID:Europe/Paris
BEGIN:DAYLIGHT
TZOFFSETFROM:+0100
TZOFFSETTO:+0200
TZNAME:CEST
DTSTART:20230326T010000
END:DAYLIGHT
BEGIN:STANDARD
TZOFFSETFROM:+0200
TZOFFSETTO:+0100
TZNAME:CET
DTSTART:20231029T010000
END:STANDARD
BEGIN:DAYLIGHT
TZOFFSETFROM:+0100
TZOFFSETTO:+0200
TZNAME:CEST
DTSTART:20240331T010000
END:DAYLIGHT
BEGIN:STANDARD
TZOFFSETFROM:+0200
TZOFFSETTO:+0100
TZNAME:CET
DTSTART:20241027T010000
END:STANDARD
BEGIN:DAYLIGHT
TZOFFSETFROM:+0100
TZOFFSETTO:+0200
TZNAME:CEST
DTSTART:20250330T010000
END:DAYLIGHT
BEGIN:STANDARD
TZOFFSETFROM:+0200
TZOFFSETTO:+0100
TZNAME:CET
DTSTART:20251026T010000
END:STANDARD
END:VTIMEZONE
BEGIN:VEVENT
DTSTART;VALUE=DATE:20240904
DTEND;VALUE=DATE:20240905
DTSTAMP:20260422T193428
CREATED:20240821T222924Z
LAST-MODIFIED:20240821T223558Z
UID:5364-1725408000-1725494399@www.mialetbarrault.fr
SUMMARY:Yasmina Khadra\, rencontre signature à la librairie Filigranes
DESCRIPTION:Yasmina Khadra\, Rencontre signature à la librairie Filigranes\nMercredi 4 septembre »\nCœur-d’amande »\nBruxelles
URL:https://www.mialetbarrault.fr/events/yasmina-khadra-rencontre-signature-a-la-librairie-filigranes/
LOCATION:Bruxelles
CATEGORIES:Yasmina Khadra
ATTACH;FMTTYPE=image/png:https://www.mialetbarrault.fr/wp-content/uploads/2024/08/khadra-04-09-2024.png
END:VEVENT
BEGIN:VEVENT
DTSTART;VALUE=DATE:20240907
DTEND;VALUE=DATE:20240908
DTSTAMP:20260422T193428
CREATED:20240821T223520Z
LAST-MODIFIED:20240821T223520Z
UID:5367-1725667200-1725753599@www.mialetbarrault.fr
SUMMARY:Yasmina Khadra\, rencontre/signature à la FNAC
DESCRIPTION:Yasmina Khadra\, rencontre/signature à la FNAC\nSamedi 7 septembre\n« Cœur-d’amande »\nMontpellier
URL:https://www.mialetbarrault.fr/events/yasmina-khadra-rencontre-signature-a-la-fnac/
LOCATION:Montpellier
CATEGORIES:Yasmina Khadra
ATTACH;FMTTYPE=image/png:https://www.mialetbarrault.fr/wp-content/uploads/2024/08/khadra-07-09-2024.png
END:VEVENT
BEGIN:VEVENT
DTSTART;TZID=Europe/Paris:20240912T190000
DTEND;TZID=Europe/Paris:20240912T235900
DTSTAMP:20260422T193428
CREATED:20240821T224305Z
LAST-MODIFIED:20240821T224305Z
UID:5372-1726167600-1726185540@www.mialetbarrault.fr
SUMMARY:Philippe Jaenada\, rencontre à Librairie de Paris
DESCRIPTION:Philippe Jaenada\, rencontre à Librairie de Paris\nJeudi 12 septembre\n« La désinvolture est une bien belle chose »\nParis
URL:https://www.mialetbarrault.fr/events/philippe-jaenada-rencontre-a-librairie-de-paris/
LOCATION:Paris
CATEGORIES:Philippe Jaenada
ATTACH;FMTTYPE=image/png:https://www.mialetbarrault.fr/wp-content/uploads/2024/08/Jaenada-12-09-2024.png
END:VEVENT
BEGIN:VEVENT
DTSTART;VALUE=DATE:20240913
DTEND;VALUE=DATE:20240916
DTSTAMP:20260422T193428
CREATED:20240821T230151Z
LAST-MODIFIED:20240821T230151Z
UID:5379-1726185600-1726444799@www.mialetbarrault.fr
SUMMARY:Philippe Jaenada\, « Le livre sur la Place »
DESCRIPTION:Philippe Jaenada\, « Le livre sur la Place »\nDu 13 au 15 septembre\n« La désinvolture est une bien belle chose »\nNancy
URL:https://www.mialetbarrault.fr/events/philippe-jaenada-le-livre-sur-la-place/
LOCATION:Nancy
CATEGORIES:Philippe Jaenada
ATTACH;FMTTYPE=image/png:https://www.mialetbarrault.fr/wp-content/uploads/2024/08/Jaenada-13_15-09-2024.png
END:VEVENT
BEGIN:VEVENT
DTSTART;VALUE=DATE:20240913
DTEND;VALUE=DATE:20240916
DTSTAMP:20260422T193428
CREATED:20240821T230351Z
LAST-MODIFIED:20240821T230605Z
UID:5382-1726185600-1726444799@www.mialetbarrault.fr
SUMMARY:Yasmina Khadra\, « Le livre sur la Place »
DESCRIPTION:Yasmina Khadra\, « Le livre sur la Place »\nDu 13 au 15 septembre\n« Cœur-d’amande »\nNancy
URL:https://www.mialetbarrault.fr/events/yasmina-khadra-le-livre-sur-la-place/
LOCATION:Nancy
CATEGORIES:Yasmina Khadra
ATTACH;FMTTYPE=image/png:https://www.mialetbarrault.fr/wp-content/uploads/2024/08/khadra-13_15-09-2024.png
END:VEVENT
BEGIN:VEVENT
DTSTART;TZID=Europe/Paris:20240914T150000
DTEND;TZID=Europe/Paris:20240914T170000
DTSTAMP:20260422T193428
CREATED:20240821T225617Z
LAST-MODIFIED:20240821T230432Z
UID:5375-1726326000-1726333200@www.mialetbarrault.fr
SUMMARY:Lionel Duroy\, Bibliothèque de Viroflay
DESCRIPTION:Lionel Duroy\, Bibliothèque de Viroflay\nSamedi 14 septembre\n« Sommes-nous devenus des criminels ?\nVie du maréchal Paulus »\nViroflay
URL:https://www.mialetbarrault.fr/events/lionel-duroy-bibliotheque-de-viroflay/
LOCATION:Viroflay
CATEGORIES:Lionel Duroy
ATTACH;FMTTYPE=image/png:https://www.mialetbarrault.fr/wp-content/uploads/2024/08/Duroy-14-09-2024.png
END:VEVENT
BEGIN:VEVENT
DTSTART;TZID=Europe/Paris:20240919T190000
DTEND;TZID=Europe/Paris:20240919T235900
DTSTAMP:20260422T193428
CREATED:20240823T073302Z
LAST-MODIFIED:20240823T073302Z
UID:5387-1726772400-1726790340@www.mialetbarrault.fr
SUMMARY:Yasmina Khadra\, librairie Le Divan
DESCRIPTION:Yasmina Khadra\, librairie Le Divan\nJeudi 19 septembre\n« Cœur-d’amande »\nParis
URL:https://www.mialetbarrault.fr/events/yasmina-khadra-librairie-le-divan/
LOCATION:Paris
CATEGORIES:Yasmina Khadra
ATTACH;FMTTYPE=image/png:https://www.mialetbarrault.fr/wp-content/uploads/2024/08/le-divan.png
END:VEVENT
BEGIN:VEVENT
DTSTART;TZID=Europe/Paris:20240919T193000
DTEND;TZID=Europe/Paris:20240919T235900
DTSTAMP:20260422T193428
CREATED:20240823T073741Z
LAST-MODIFIED:20240823T073741Z
UID:5390-1726774200-1726790340@www.mialetbarrault.fr
SUMMARY:Philippe Jaenada\, Rencontre à la librairie Labyrinthes
DESCRIPTION:Philippe Jaenada\, Rencontre à la librairie Labyrinthes\nJeudi 19 septembre\n« La désinvolture est une bien belle chose »\nRambouillet
URL:https://www.mialetbarrault.fr/events/philippe-jaenada-rencontre-a-la-librairie-labyrinthes/
LOCATION:Rambouillet
CATEGORIES:Philippe Jaenada
ATTACH;FMTTYPE=image/png:https://www.mialetbarrault.fr/wp-content/uploads/2024/08/lab.png
END:VEVENT
BEGIN:VEVENT
DTSTART;VALUE=DATE:20240920
DTEND;VALUE=DATE:20240923
DTSTAMP:20260422T193428
CREATED:20240823T074835Z
LAST-MODIFIED:20240823T074835Z
UID:5398-1726790400-1727049599@www.mialetbarrault.fr
SUMMARY:Lionel Duroy\, Lire dans la Boucle
DESCRIPTION:Lionel Duroy\, Lire dans la Boucle\n20-21-22 septembre 2024\n« Sommes-nous devenus des criminels ?\nVie du maréchal Paulus »\nBesançon
URL:https://www.mialetbarrault.fr/events/lionel-duroy-lire-dans-la-boucle/
LOCATION:Besançon
CATEGORIES:Lionel Duroy
ATTACH;FMTTYPE=image/png:https://www.mialetbarrault.fr/wp-content/uploads/2024/08/boucle.png
END:VEVENT
BEGIN:VEVENT
DTSTART;VALUE=DATE:20240925
DTEND;VALUE=DATE:20240926
DTSTAMP:20260422T193428
CREATED:20240823T075740Z
LAST-MODIFIED:20240823T080323Z
UID:5404-1727222400-1727308799@www.mialetbarrault.fr
SUMMARY:Murielle Magellan\, Bibliothèques idéales
DESCRIPTION:Murielle Magellan\, Bibliothèques idéales\nMercredi 25 septembre\n« La Fantaisie »\nStrasbourg
URL:https://www.mialetbarrault.fr/events/murielle-magellan-bibliotheques-ideales/
LOCATION:Strasbourg
CATEGORIES:Murielle Magellan
ATTACH;FMTTYPE=image/png:https://www.mialetbarrault.fr/wp-content/uploads/2024/08/ideales.png
END:VEVENT
BEGIN:VEVENT
DTSTART;VALUE=DATE:20240926
DTEND;VALUE=DATE:20240930
DTSTAMP:20260422T193428
CREATED:20240823T075304Z
LAST-MODIFIED:20240823T075304Z
UID:5401-1727308800-1727654399@www.mialetbarrault.fr
SUMMARY:Philippe Jaenada\, Les Correspondances de Manosque 2024
DESCRIPTION:Philippe Jaenada\, Les Correspondances de Manosque 2024\nDu 26 au 29 septembre 2024\n« La désinvolture est une bien belle chose »\nRambouillet
URL:https://www.mialetbarrault.fr/events/philippe-jaenada-les-correspondances-de-manosque-2024/
LOCATION:Manosques
CATEGORIES:Philippe Jaenada
ATTACH;FMTTYPE=image/png:https://www.mialetbarrault.fr/wp-content/uploads/2024/08/manosuqe.png
END:VEVENT
BEGIN:VEVENT
DTSTART;VALUE=DATE:20240927
DTEND;VALUE=DATE:20240930
DTSTAMP:20260422T193428
CREATED:20240823T080149Z
LAST-MODIFIED:20240823T080503Z
UID:5407-1727395200-1727654399@www.mialetbarrault.fr
SUMMARY:Murielle Magellan\, Festival « Villeneuve se livre »
DESCRIPTION:Murielle Magellan\, Festival « Villeneuve se livre »\n27-28 et 29 septembre\n« La Fantaisie »\nVilleneuve-sur-Lot
URL:https://www.mialetbarrault.fr/events/murielle-magellan-festival-villeneuve-se-livre/
LOCATION:Villeneuve-sur-Lot
CATEGORIES:Murielle Magellan
ATTACH;FMTTYPE=image/png:https://www.mialetbarrault.fr/wp-content/uploads/2024/08/selivres.png
END:VEVENT
END:VCALENDAR